BEGIN:VCALENDAR
VERSION:2.0
PRODID:-//Recollect - ECPv6.10.2//NONSGML v1.0//EN
CALSCALE:GREGORIAN
METHOD:PUBLISH
X-WR-CALNAME:Recollect
X-ORIGINAL-URL:https://www.recollectcms.com
X-WR-CALDESC:Events for Recollect
REFRESH-INTERVAL;VALUE=DURATION:PT1H
X-Robots-Tag:noindex
X-PUBLISHED-TTL:PT1H
BEGIN:VTIMEZONE
TZID:America/New_York
BEGIN:DAYLIGHT
TZOFFSETFROM:-0500
TZOFFSETTO:-0400
TZNAME:EDT
DTSTART:20260308T070000
END:DAYLIGHT
BEGIN:STANDARD
TZOFFSETFROM:-0400
TZOFFSETTO:-0500
TZNAME:EST
DTSTART:20261101T060000
END:STANDARD
END:VTIMEZONE
BEGIN:VEVENT
DTSTART;VALUE=DATE:20260331
DTEND;VALUE=DATE:20260404
DTSTAMP:20260420T184149
CREATED:20260318T023806Z
LAST-MODIFIED:20260318T023806Z
UID:85609-1774915200-1775260799@www.recollectcms.com
SUMMARY:Public Library Association
DESCRIPTION:The Public Library Association (PLA) Conference is one of the leading events dedicated exclusively to public library professionals\, bringing together thousands of practitioners\, thought leaders\, and innovators from across North America. With a strong focus on practical learning\, the conference delivers an engaging program of hands-on workshops\, inspiring keynote sessions\, and peer-led discussions that address the real challenges and opportunities facing public libraries today. \nAttendees come away with actionable ideas to strengthen community impact\, enhance digital services\, and evolve how libraries connect with their audiences. From exploring new technologies to sharing success stories in programming and outreach\, the PLA Conference is an essential space to learn\, collaborate\, and reimagine the role of public libraries in a rapidly changing world. \nBrandy and Renee will be there on Booth 1925 – come by and say Hi
URL:https://www.recollectcms.com/event/public-library-association/
CATEGORIES:Conference,Exhibition
ATTACH;FMTTYPE=image/png:https://www.recollectcms.com/wp-content/uploads/2026/03/PLA-1.png
END:VEVENT
BEGIN:VEVENT
DTSTART;VALUE=DATE:20260329
DTEND;VALUE=DATE:20260401
DTSTAMP:20260420T184149
CREATED:20260318T022408Z
LAST-MODIFIED:20260318T022408Z
UID:85605-1774742400-1775001599@www.recollectcms.com
SUMMARY:Texas Library Association
DESCRIPTION:The Texas Library Association Annual Conference is a flagship event that brings together library professionals\, educators\, and industry partners from across Texas and beyond. With a dynamic program of keynote speakers\, breakout sessions\, and an expansive exhibitor showcase\, the conference explores the latest trends\, technologies\, and strategies shaping the future of libraries. Attendees gain practical insights into everything from community engagement and digital transformation to collection development and advocacy. \nMore than just a conference\, it’s an opportunity to connect\, collaborate\, and be inspired. Whether you’re looking to discover innovative solutions\, strengthen your professional network\, or reimagine how your organisation serves its community\, this event offers the ideas and connections to help you move forward with confidence. \nRenee will be there – you’ll find her on Booth 906 ready for a chat…
URL:https://www.recollectcms.com/event/texas-library-association/
CATEGORIES:Conference
ATTACH;FMTTYPE=image/png:https://www.recollectcms.com/wp-content/uploads/2026/03/Texas-Library-Assn-.png
END:VEVENT
END:VCALENDAR