BEGIN:VCALENDAR
VERSION:2.0
PRODID:-//Recollect - ECPv6.10.2//NONSGML v1.0//EN
CALSCALE:GREGORIAN
METHOD:PUBLISH
X-ORIGINAL-URL:https://www.recollectcms.com
X-WR-CALDESC:Events for Recollect
REFRESH-INTERVAL;VALUE=DURATION:PT1H
X-Robots-Tag:noindex
X-PUBLISHED-TTL:PT1H
BEGIN:VTIMEZONE
TZID:America/Denver
BEGIN:DAYLIGHT
TZOFFSETFROM:-0700
TZOFFSETTO:-0600
TZNAME:MDT
DTSTART:20260308T090000
END:DAYLIGHT
BEGIN:STANDARD
TZOFFSETFROM:-0600
TZOFFSETTO:-0700
TZNAME:MST
DTSTART:20261101T080000
END:STANDARD
END:VTIMEZONE
BEGIN:VTIMEZONE
TZID:America/New_York
BEGIN:DAYLIGHT
TZOFFSETFROM:-0500
TZOFFSETTO:-0400
TZNAME:EDT
DTSTART:20260308T070000
END:DAYLIGHT
BEGIN:STANDARD
TZOFFSETFROM:-0400
TZOFFSETTO:-0500
TZNAME:EST
DTSTART:20261101T060000
END:STANDARD
END:VTIMEZONE
BEGIN:VTIMEZONE
TZID:America/Chicago
BEGIN:DAYLIGHT
TZOFFSETFROM:-0600
TZOFFSETTO:-0500
TZNAME:CDT
DTSTART:20260308T080000
END:DAYLIGHT
BEGIN:STANDARD
TZOFFSETFROM:-0500
TZOFFSETTO:-0600
TZNAME:CST
DTSTART:20261101T070000
END:STANDARD
END:VTIMEZONE
BEGIN:VTIMEZONE
TZID:America/Halifax
BEGIN:DAYLIGHT
TZOFFSETFROM:-0400
TZOFFSETTO:-0300
TZNAME:ADT
DTSTART:20260308T060000
END:DAYLIGHT
BEGIN:STANDARD
TZOFFSETFROM:-0300
TZOFFSETTO:-0400
TZNAME:AST
DTSTART:20261101T050000
END:STANDARD
END:VTIMEZONE
BEGIN:VEVENT
DTSTART;VALUE=DATE:20260624
DTEND;VALUE=DATE:20260627
DTSTAMP:20260420T120013
CREATED:20260401T031625Z
LAST-MODIFIED:20260401T031710Z
UID:85624-1782259200-1782518399@www.recollectcms.com
SUMMARY:Northwest Archives Conference
DESCRIPTION:The 2026 NWA Annual Meeting gives us an opportunity to gather\, collaborate\, and learn from the work of archivists from across our membership. Our 2026 meeting will be held in Tacoma\, Washington\, also known as Grit City. The theme for 2026 is Grit and Memory: Preserving the Stories That Built Our Communities. Grit is the ability to overcome obstacles and challenges in our work: burnout\, understaffing\, budget cuts\, backlogs\, growing large workloads with shrinking resources\, and many other challenges. How does grit help us to overcome these challenges and preserve the stories of our communities? At the same time\, others have critiqued the concept of grit\, so we ask\, what does it mean to critique the concept of grit in the archival profession? Do we always have to be so gritty and make do with what we have? Or\, can we find creative ways to identify and remove obstacles that should not be there for ourselves\, our colleagues\, our profession and our users? \n  \nJune 24-26\, 2026
URL:https://www.recollectcms.com/event/northwest-archives-conference/
LOCATION:Marriott Tacoma Downtown\, United States
CATEGORIES:Archivists,Conference,Exhibition
ATTACH;FMTTYPE=image/jpeg:https://www.recollectcms.com/wp-content/uploads/2026/04/Northwest-Archivists.jpg
END:VEVENT
BEGIN:VEVENT
DTSTART;VALUE=DATE:20260625
DTEND;VALUE=DATE:20260630
DTSTAMP:20260420T120013
CREATED:20260401T062306Z
LAST-MODIFIED:20260401T062306Z
UID:85640-1782345600-1782777599@www.recollectcms.com
SUMMARY:American Library Association
DESCRIPTION:ALA 2026 Annual Conference & Exhibition (ALA Annual) returns to Chicago to celebrate a milestone and shape the future of libraries. Join us for more momentum\, more meaningful in-person connections\, and more practical ideas you can bring back to your community. Experience the energy\, insight\, and collaboration libraries need now. \nMeet change-makers\, idea-builders\, and library leaders at the ALA 2026 Annual Conference & Exhibition as we mark ALA’s 150th Anniversary and look boldly to the future. This milestone gathering will bring together thousands of library professionals\, educators\, authors\, publishers\, and advocates from around the globe. \nTogether\, we’ll celebrate libraries—and ignite the next era of innovation and access—through future-focused learning\, powerful keynotes\, transformative resources\, and an overall commitment to building libraries that reflect the adaptive\, inclusive\, and community-driven world we want to live in. \nBe part of the celebration. Be part of the future. \nCome and say Hi – Brandy and Renee are on Booth 1514. \n 
URL:https://www.recollectcms.com/event/american-library-association-ala/
LOCATION:McCormick Place Chicago\, United States
CATEGORIES:Conference,Exhibition,Libraries
ATTACH;FMTTYPE=image/jpeg:https://www.recollectcms.com/wp-content/uploads/2026/04/ALA-Chicago-2026.jpg
END:VEVENT
BEGIN:VEVENT
DTSTART;VALUE=DATE:20260729
DTEND;VALUE=DATE:20260802
DTSTAMP:20260420T120013
CREATED:20260401T060414Z
LAST-MODIFIED:20260401T060414Z
UID:85630-1785283200-1785628799@www.recollectcms.com
SUMMARY:Society Of Archivists
DESCRIPTION:90th Annual Meeting of the Society of American Archivists… \nThe Society of American Archivists (SAA) hosted its first hybrid Annual Meeting in 2022. The 2026 Annual Meeting will be hybrid once again\, connecting people in New Orleans\, Louisiana and online. \nA mixture of events\, both in-person and virtual\, spread across three days. All recorded education sessions will be made available to both in-person AND virtual attendees after the conference ends. \nWe’re at Booth #312 – come and say Hi!
URL:https://www.recollectcms.com/event/society-of-archivists/
LOCATION:Hyatt Regency New Orleans\, United States
CATEGORIES:Archivists,Conference,Exhibition
ATTACH;FMTTYPE=image/png:https://www.recollectcms.com/wp-content/uploads/2026/04/SAAHoriz-Blue_200.png
END:VEVENT
BEGIN:VEVENT
DTSTART;VALUE=DATE:20260916
DTEND;VALUE=DATE:20260920
DTSTAMP:20260420T120013
CREATED:20260401T063752Z
LAST-MODIFIED:20260401T063752Z
UID:85645-1789516800-1789862399@www.recollectcms.com
SUMMARY:AALSH and National Council on Public History
DESCRIPTION:The Work of Revolution… \nIn September 2026\, the American Association for State and Local History (AASLH) and the National Council on Public History (NCPH) will be holding a joint conference in Providence\, Rhode Island. This will be a unique opportunity to reach people across the public history field\, including \nWe anticipate over 1\,400 attendees. Between our two organizations we have over 50\,000 email contacts for our weekly email blasts and over 40\,000 followers on social media. \n  \n 
URL:https://www.recollectcms.com/event/aalsh-and-national-council-on-public-history/
LOCATION:Rhode Island Convention Center\, Providence\, Rhode Island\, United States
CATEGORIES:Conference,Exhibition
ATTACH;FMTTYPE=image/jpeg:https://www.recollectcms.com/wp-content/uploads/2026/04/Screenshot-2026-04-01-192616.jpg
END:VEVENT
END:VCALENDAR